BEGIN:VCALENDAR
VERSION:2.0
PRODID:-//3 Sheeps Brewing - ECPv6.15.12.2//NONSGML v1.0//EN
CALSCALE:GREGORIAN
METHOD:PUBLISH
X-WR-CALNAME:3 Sheeps Brewing
X-ORIGINAL-URL:https://3sheepsbrewing.com
X-WR-CALDESC:Events for 3 Sheeps Brewing
REFRESH-INTERVAL;VALUE=DURATION:PT1H
X-Robots-Tag:noindex
X-PUBLISHED-TTL:PT1H
BEGIN:VTIMEZONE
TZID:America/Chicago
BEGIN:DAYLIGHT
TZOFFSETFROM:-0600
TZOFFSETTO:-0500
TZNAME:CDT
DTSTART:20250309T080000
END:DAYLIGHT
BEGIN:STANDARD
TZOFFSETFROM:-0500
TZOFFSETTO:-0600
TZNAME:CST
DTSTART:20251102T070000
END:STANDARD
BEGIN:DAYLIGHT
TZOFFSETFROM:-0600
TZOFFSETTO:-0500
TZNAME:CDT
DTSTART:20260308T080000
END:DAYLIGHT
BEGIN:STANDARD
TZOFFSETFROM:-0500
TZOFFSETTO:-0600
TZNAME:CST
DTSTART:20261101T070000
END:STANDARD
BEGIN:DAYLIGHT
TZOFFSETFROM:-0600
TZOFFSETTO:-0500
TZNAME:CDT
DTSTART:20270314T080000
END:DAYLIGHT
BEGIN:STANDARD
TZOFFSETFROM:-0500
TZOFFSETTO:-0600
TZNAME:CST
DTSTART:20271107T070000
END:STANDARD
BEGIN:DAYLIGHT
TZOFFSETFROM:-0600
TZOFFSETTO:-0500
TZNAME:CDT
DTSTART:20280312T080000
END:DAYLIGHT
BEGIN:STANDARD
TZOFFSETFROM:-0500
TZOFFSETTO:-0600
TZNAME:CST
DTSTART:20281105T070000
END:STANDARD
BEGIN:DAYLIGHT
TZOFFSETFROM:-0600
TZOFFSETTO:-0500
TZNAME:CDT
DTSTART:20290311T080000
END:DAYLIGHT
BEGIN:STANDARD
TZOFFSETFROM:-0500
TZOFFSETTO:-0600
TZNAME:CST
DTSTART:20291104T070000
END:STANDARD
BEGIN:DAYLIGHT
TZOFFSETFROM:-0600
TZOFFSETTO:-0500
TZNAME:CDT
DTSTART:20300310T080000
END:DAYLIGHT
BEGIN:STANDARD
TZOFFSETFROM:-0500
TZOFFSETTO:-0600
TZNAME:CST
DTSTART:20301103T070000
END:STANDARD
BEGIN:DAYLIGHT
TZOFFSETFROM:-0600
TZOFFSETTO:-0500
TZNAME:CDT
DTSTART:20310309T080000
END:DAYLIGHT
BEGIN:STANDARD
TZOFFSETFROM:-0500
TZOFFSETTO:-0600
TZNAME:CST
DTSTART:20311102T070000
END:STANDARD
BEGIN:DAYLIGHT
TZOFFSETFROM:-0600
TZOFFSETTO:-0500
TZNAME:CDT
DTSTART:20320314T080000
END:DAYLIGHT
BEGIN:STANDARD
TZOFFSETFROM:-0500
TZOFFSETTO:-0600
TZNAME:CST
DTSTART:20321107T070000
END:STANDARD
END:VTIMEZONE
BEGIN:VEVENT
DTSTART;TZID=America/Chicago:20290725T190000
DTEND;TZID=America/Chicago:20290725T210000
DTSTAMP:20260419T085714
CREATED:20240505T134928Z
LAST-MODIFIED:20260309T154238Z
UID:10000462-1879700400-1879707600@3sheepsbrewing.com
SUMMARY:Bingo!
DESCRIPTION:Dust off your daubers\, Bingo is back at 3 Sheeps! \nEach Wednesday\, we’ll be playing ten rounds of one of Wisconsin’s favorite past times. Prizes awarded throughout. Free to play.
URL:https://3sheepsbrewing.com/event-detail/bingo-2/2029-07-25/
LOCATION:Taproom\, 1837 North Ave.\, Sheboygan\, WI\, 53083\, United States
CATEGORIES:Bingo
ATTACH;FMTTYPE=image/png:https://craftpeak-cooler-images.imgix.net/3-sheeps-brewing/BINGO-16x9-1.png?auto=compress%2Cformat&ixlib=php-3.3.1&s=46e5f57ed87f6e98921189f3f51a2cc7
END:VEVENT
BEGIN:VEVENT
DTSTART;TZID=America/Chicago:20300306T190000
DTEND;TZID=America/Chicago:20300306T210000
DTSTAMP:20260419T085714
CREATED:20240505T134928Z
LAST-MODIFIED:20260309T154238Z
UID:10003100-1899054000-1899061200@3sheepsbrewing.com
SUMMARY:Bingo!
DESCRIPTION:Dust off your daubers\, Bingo is back at 3 Sheeps! \nEach Wednesday\, we’ll be playing ten rounds of one of Wisconsin’s favorite past times. Prizes awarded throughout. Free to play.
URL:https://3sheepsbrewing.com/event-detail/bingo-2/2030-03-06/
LOCATION:Taproom\, 1837 North Ave.\, Sheboygan\, WI\, 53083\, United States
CATEGORIES:Bingo
ATTACH;FMTTYPE=image/png:https://craftpeak-cooler-images.imgix.net/3-sheeps-brewing/BINGO-16x9-1.png?auto=compress%2Cformat&ixlib=php-3.3.1&s=46e5f57ed87f6e98921189f3f51a2cc7
END:VEVENT
BEGIN:VEVENT
DTSTART;TZID=America/Chicago:20301016T190000
DTEND;TZID=America/Chicago:20301016T210000
DTSTAMP:20260419T085714
CREATED:20240505T134928Z
LAST-MODIFIED:20260309T154238Z
UID:10003863-1918407600-1918414800@3sheepsbrewing.com
SUMMARY:Bingo!
DESCRIPTION:Dust off your daubers\, Bingo is back at 3 Sheeps! \nEach Wednesday\, we’ll be playing ten rounds of one of Wisconsin’s favorite past times. Prizes awarded throughout. Free to play.
URL:https://3sheepsbrewing.com/event-detail/bingo-2/2030-10-16/
LOCATION:Taproom\, 1837 North Ave.\, Sheboygan\, WI\, 53083\, United States
CATEGORIES:Bingo
ATTACH;FMTTYPE=image/png:https://craftpeak-cooler-images.imgix.net/3-sheeps-brewing/BINGO-16x9-1.png?auto=compress%2Cformat&ixlib=php-3.3.1&s=46e5f57ed87f6e98921189f3f51a2cc7
END:VEVENT
BEGIN:VEVENT
DTSTART;TZID=America/Chicago:20260916T190000
DTEND;TZID=America/Chicago:20260916T210000
DTSTAMP:20260419T085714
CREATED:20240505T134928Z
LAST-MODIFIED:20260309T154238Z
UID:10000138-1789585200-1789592400@3sheepsbrewing.com
SUMMARY:Bingo!
DESCRIPTION:Dust off your daubers\, Bingo is back at 3 Sheeps! \nEach Wednesday\, we’ll be playing ten rounds of one of Wisconsin’s favorite past times. Prizes awarded throughout. Free to play.
URL:https://3sheepsbrewing.com/event-detail/bingo-2/2026-09-16/
LOCATION:Taproom\, 1837 North Ave.\, Sheboygan\, WI\, 53083\, United States
CATEGORIES:Bingo
ATTACH;FMTTYPE=image/png:https://craftpeak-cooler-images.imgix.net/3-sheeps-brewing/BINGO-16x9-1.png?auto=compress%2Cformat&ixlib=php-3.3.1&s=46e5f57ed87f6e98921189f3f51a2cc7
END:VEVENT
BEGIN:VEVENT
DTSTART;TZID=America/Chicago:20270428T190000
DTEND;TZID=America/Chicago:20270428T210000
DTSTAMP:20260419T085714
CREATED:20240505T134928Z
LAST-MODIFIED:20260309T154238Z
UID:10000170-1808938800-1808946000@3sheepsbrewing.com
SUMMARY:Bingo!
DESCRIPTION:Dust off your daubers\, Bingo is back at 3 Sheeps! \nEach Wednesday\, we’ll be playing ten rounds of one of Wisconsin’s favorite past times. Prizes awarded throughout. Free to play.
URL:https://3sheepsbrewing.com/event-detail/bingo-2/2027-04-28/
LOCATION:Taproom\, 1837 North Ave.\, Sheboygan\, WI\, 53083\, United States
CATEGORIES:Bingo
ATTACH;FMTTYPE=image/png:https://craftpeak-cooler-images.imgix.net/3-sheeps-brewing/BINGO-16x9-1.png?auto=compress%2Cformat&ixlib=php-3.3.1&s=46e5f57ed87f6e98921189f3f51a2cc7
END:VEVENT
BEGIN:VEVENT
DTSTART;TZID=America/Chicago:20271208T190000
DTEND;TZID=America/Chicago:20271208T210000
DTSTAMP:20260419T085714
CREATED:20240505T134928Z
LAST-MODIFIED:20260309T154238Z
UID:10000202-1828292400-1828299600@3sheepsbrewing.com
SUMMARY:Bingo!
DESCRIPTION:Dust off your daubers\, Bingo is back at 3 Sheeps! \nEach Wednesday\, we’ll be playing ten rounds of one of Wisconsin’s favorite past times. Prizes awarded throughout. Free to play.
URL:https://3sheepsbrewing.com/event-detail/bingo-2/2027-12-08/
LOCATION:Taproom\, 1837 North Ave.\, Sheboygan\, WI\, 53083\, United States
CATEGORIES:Bingo
ATTACH;FMTTYPE=image/png:https://craftpeak-cooler-images.imgix.net/3-sheeps-brewing/BINGO-16x9-1.png?auto=compress%2Cformat&ixlib=php-3.3.1&s=46e5f57ed87f6e98921189f3f51a2cc7
END:VEVENT
BEGIN:VEVENT
DTSTART;TZID=America/Chicago:20280719T190000
DTEND;TZID=America/Chicago:20280719T210000
DTSTAMP:20260419T085714
CREATED:20240505T134928Z
LAST-MODIFIED:20260309T154238Z
UID:10000234-1847646000-1847653200@3sheepsbrewing.com
SUMMARY:Bingo!
DESCRIPTION:Dust off your daubers\, Bingo is back at 3 Sheeps! \nEach Wednesday\, we’ll be playing ten rounds of one of Wisconsin’s favorite past times. Prizes awarded throughout. Free to play.
URL:https://3sheepsbrewing.com/event-detail/bingo-2/2028-07-19/
LOCATION:Taproom\, 1837 North Ave.\, Sheboygan\, WI\, 53083\, United States
CATEGORIES:Bingo
ATTACH;FMTTYPE=image/png:https://craftpeak-cooler-images.imgix.net/3-sheeps-brewing/BINGO-16x9-1.png?auto=compress%2Cformat&ixlib=php-3.3.1&s=46e5f57ed87f6e98921189f3f51a2cc7
END:VEVENT
BEGIN:VEVENT
DTSTART;TZID=America/Chicago:20290228T190000
DTEND;TZID=America/Chicago:20290228T210000
DTSTAMP:20260419T085714
CREATED:20240505T134928Z
LAST-MODIFIED:20260309T154238Z
UID:10000266-1866999600-1867006800@3sheepsbrewing.com
SUMMARY:Bingo!
DESCRIPTION:Dust off your daubers\, Bingo is back at 3 Sheeps! \nEach Wednesday\, we’ll be playing ten rounds of one of Wisconsin’s favorite past times. Prizes awarded throughout. Free to play.
URL:https://3sheepsbrewing.com/event-detail/bingo-2/2029-02-28/
LOCATION:Taproom\, 1837 North Ave.\, Sheboygan\, WI\, 53083\, United States
CATEGORIES:Bingo
ATTACH;FMTTYPE=image/png:https://craftpeak-cooler-images.imgix.net/3-sheeps-brewing/BINGO-16x9-1.png?auto=compress%2Cformat&ixlib=php-3.3.1&s=46e5f57ed87f6e98921189f3f51a2cc7
END:VEVENT
BEGIN:VEVENT
DTSTART;TZID=America/Chicago:20291010T190000
DTEND;TZID=America/Chicago:20291010T210000
DTSTAMP:20260419T085714
CREATED:20240505T134928Z
LAST-MODIFIED:20260309T154238Z
UID:10000473-1886353200-1886360400@3sheepsbrewing.com
SUMMARY:Bingo!
DESCRIPTION:Dust off your daubers\, Bingo is back at 3 Sheeps! \nEach Wednesday\, we’ll be playing ten rounds of one of Wisconsin’s favorite past times. Prizes awarded throughout. Free to play.
URL:https://3sheepsbrewing.com/event-detail/bingo-2/2029-10-10/
LOCATION:Taproom\, 1837 North Ave.\, Sheboygan\, WI\, 53083\, United States
CATEGORIES:Bingo
ATTACH;FMTTYPE=image/png:https://craftpeak-cooler-images.imgix.net/3-sheeps-brewing/BINGO-16x9-1.png?auto=compress%2Cformat&ixlib=php-3.3.1&s=46e5f57ed87f6e98921189f3f51a2cc7
END:VEVENT
BEGIN:VEVENT
DTSTART;TZID=America/Chicago:20300522T190000
DTEND;TZID=America/Chicago:20300522T210000
DTSTAMP:20260419T085714
CREATED:20240505T134928Z
LAST-MODIFIED:20260309T154238Z
UID:10003842-1905706800-1905714000@3sheepsbrewing.com
SUMMARY:Bingo!
DESCRIPTION:Dust off your daubers\, Bingo is back at 3 Sheeps! \nEach Wednesday\, we’ll be playing ten rounds of one of Wisconsin’s favorite past times. Prizes awarded throughout. Free to play.
URL:https://3sheepsbrewing.com/event-detail/bingo-2/2030-05-22/
LOCATION:Taproom\, 1837 North Ave.\, Sheboygan\, WI\, 53083\, United States
CATEGORIES:Bingo
ATTACH;FMTTYPE=image/png:https://craftpeak-cooler-images.imgix.net/3-sheeps-brewing/BINGO-16x9-1.png?auto=compress%2Cformat&ixlib=php-3.3.1&s=46e5f57ed87f6e98921189f3f51a2cc7
END:VEVENT
BEGIN:VEVENT
DTSTART;TZID=America/Chicago:20310101T190000
DTEND;TZID=America/Chicago:20310101T210000
DTSTAMP:20260419T085714
CREATED:20240505T134928Z
LAST-MODIFIED:20260309T154238Z
UID:10005490-1925060400-1925067600@3sheepsbrewing.com
SUMMARY:Bingo!
DESCRIPTION:Dust off your daubers\, Bingo is back at 3 Sheeps! \nEach Wednesday\, we’ll be playing ten rounds of one of Wisconsin’s favorite past times. Prizes awarded throughout. Free to play.
URL:https://3sheepsbrewing.com/event-detail/bingo-2/2031-01-01/
LOCATION:Taproom\, 1837 North Ave.\, Sheboygan\, WI\, 53083\, United States
CATEGORIES:Bingo
ATTACH;FMTTYPE=image/png:https://craftpeak-cooler-images.imgix.net/3-sheeps-brewing/BINGO-16x9-1.png?auto=compress%2Cformat&ixlib=php-3.3.1&s=46e5f57ed87f6e98921189f3f51a2cc7
END:VEVENT
BEGIN:VEVENT
DTSTART;TZID=America/Chicago:20260422T190000
DTEND;TZID=America/Chicago:20260422T210000
DTSTAMP:20260419T085714
CREATED:20240505T134928Z
LAST-MODIFIED:20260309T154238Z
UID:10000117-1776884400-1776891600@3sheepsbrewing.com
SUMMARY:Bingo!
DESCRIPTION:Dust off your daubers\, Bingo is back at 3 Sheeps! \nEach Wednesday\, we’ll be playing ten rounds of one of Wisconsin’s favorite past times. Prizes awarded throughout. Free to play.
URL:https://3sheepsbrewing.com/event-detail/bingo-2/2026-04-22/
LOCATION:Taproom\, 1837 North Ave.\, Sheboygan\, WI\, 53083\, United States
CATEGORIES:Bingo
ATTACH;FMTTYPE=image/png:https://craftpeak-cooler-images.imgix.net/3-sheeps-brewing/BINGO-16x9-1.png?auto=compress%2Cformat&ixlib=php-3.3.1&s=46e5f57ed87f6e98921189f3f51a2cc7
END:VEVENT
BEGIN:VEVENT
DTSTART;TZID=America/Chicago:20261202T190000
DTEND;TZID=America/Chicago:20261202T210000
DTSTAMP:20260419T085714
CREATED:20240505T134928Z
LAST-MODIFIED:20260309T154238Z
UID:10000149-1796238000-1796245200@3sheepsbrewing.com
SUMMARY:Bingo!
DESCRIPTION:Dust off your daubers\, Bingo is back at 3 Sheeps! \nEach Wednesday\, we’ll be playing ten rounds of one of Wisconsin’s favorite past times. Prizes awarded throughout. Free to play.
URL:https://3sheepsbrewing.com/event-detail/bingo-2/2026-12-02/
LOCATION:Taproom\, 1837 North Ave.\, Sheboygan\, WI\, 53083\, United States
CATEGORIES:Bingo
ATTACH;FMTTYPE=image/png:https://craftpeak-cooler-images.imgix.net/3-sheeps-brewing/BINGO-16x9-1.png?auto=compress%2Cformat&ixlib=php-3.3.1&s=46e5f57ed87f6e98921189f3f51a2cc7
END:VEVENT
BEGIN:VEVENT
DTSTART;TZID=America/Chicago:20270714T190000
DTEND;TZID=America/Chicago:20270714T210000
DTSTAMP:20260419T085714
CREATED:20240505T134928Z
LAST-MODIFIED:20260309T154238Z
UID:10000181-1815591600-1815598800@3sheepsbrewing.com
SUMMARY:Bingo!
DESCRIPTION:Dust off your daubers\, Bingo is back at 3 Sheeps! \nEach Wednesday\, we’ll be playing ten rounds of one of Wisconsin’s favorite past times. Prizes awarded throughout. Free to play.
URL:https://3sheepsbrewing.com/event-detail/bingo-2/2027-07-14/
LOCATION:Taproom\, 1837 North Ave.\, Sheboygan\, WI\, 53083\, United States
CATEGORIES:Bingo
ATTACH;FMTTYPE=image/png:https://craftpeak-cooler-images.imgix.net/3-sheeps-brewing/BINGO-16x9-1.png?auto=compress%2Cformat&ixlib=php-3.3.1&s=46e5f57ed87f6e98921189f3f51a2cc7
END:VEVENT
BEGIN:VEVENT
DTSTART;TZID=America/Chicago:20280223T190000
DTEND;TZID=America/Chicago:20280223T210000
DTSTAMP:20260419T085714
CREATED:20240505T134928Z
LAST-MODIFIED:20260309T154238Z
UID:10000213-1834945200-1834952400@3sheepsbrewing.com
SUMMARY:Bingo!
DESCRIPTION:Dust off your daubers\, Bingo is back at 3 Sheeps! \nEach Wednesday\, we’ll be playing ten rounds of one of Wisconsin’s favorite past times. Prizes awarded throughout. Free to play.
URL:https://3sheepsbrewing.com/event-detail/bingo-2/2028-02-23/
LOCATION:Taproom\, 1837 North Ave.\, Sheboygan\, WI\, 53083\, United States
CATEGORIES:Bingo
ATTACH;FMTTYPE=image/png:https://craftpeak-cooler-images.imgix.net/3-sheeps-brewing/BINGO-16x9-1.png?auto=compress%2Cformat&ixlib=php-3.3.1&s=46e5f57ed87f6e98921189f3f51a2cc7
END:VEVENT
BEGIN:VEVENT
DTSTART;TZID=America/Chicago:20281004T190000
DTEND;TZID=America/Chicago:20281004T210000
DTSTAMP:20260419T085714
CREATED:20240505T134928Z
LAST-MODIFIED:20260309T154238Z
UID:10000245-1854298800-1854306000@3sheepsbrewing.com
SUMMARY:Bingo!
DESCRIPTION:Dust off your daubers\, Bingo is back at 3 Sheeps! \nEach Wednesday\, we’ll be playing ten rounds of one of Wisconsin’s favorite past times. Prizes awarded throughout. Free to play.
URL:https://3sheepsbrewing.com/event-detail/bingo-2/2028-10-04/
LOCATION:Taproom\, 1837 North Ave.\, Sheboygan\, WI\, 53083\, United States
CATEGORIES:Bingo
ATTACH;FMTTYPE=image/png:https://craftpeak-cooler-images.imgix.net/3-sheeps-brewing/BINGO-16x9-1.png?auto=compress%2Cformat&ixlib=php-3.3.1&s=46e5f57ed87f6e98921189f3f51a2cc7
END:VEVENT
BEGIN:VEVENT
DTSTART;TZID=America/Chicago:20290516T190000
DTEND;TZID=America/Chicago:20290516T210000
DTSTAMP:20260419T085714
CREATED:20240505T134928Z
LAST-MODIFIED:20260309T154238Z
UID:10000452-1873652400-1873659600@3sheepsbrewing.com
SUMMARY:Bingo!
DESCRIPTION:Dust off your daubers\, Bingo is back at 3 Sheeps! \nEach Wednesday\, we’ll be playing ten rounds of one of Wisconsin’s favorite past times. Prizes awarded throughout. Free to play.
URL:https://3sheepsbrewing.com/event-detail/bingo-2/2029-05-16/
LOCATION:Taproom\, 1837 North Ave.\, Sheboygan\, WI\, 53083\, United States
CATEGORIES:Bingo
ATTACH;FMTTYPE=image/png:https://craftpeak-cooler-images.imgix.net/3-sheeps-brewing/BINGO-16x9-1.png?auto=compress%2Cformat&ixlib=php-3.3.1&s=46e5f57ed87f6e98921189f3f51a2cc7
END:VEVENT
BEGIN:VEVENT
DTSTART;TZID=America/Chicago:20291226T190000
DTEND;TZID=America/Chicago:20291226T210000
DTSTAMP:20260419T085714
CREATED:20240505T134928Z
LAST-MODIFIED:20260309T154238Z
UID:10003090-1893006000-1893013200@3sheepsbrewing.com
SUMMARY:Bingo!
DESCRIPTION:Dust off your daubers\, Bingo is back at 3 Sheeps! \nEach Wednesday\, we’ll be playing ten rounds of one of Wisconsin’s favorite past times. Prizes awarded throughout. Free to play.
URL:https://3sheepsbrewing.com/event-detail/bingo-2/2029-12-26/
LOCATION:Taproom\, 1837 North Ave.\, Sheboygan\, WI\, 53083\, United States
CATEGORIES:Bingo
ATTACH;FMTTYPE=image/png:https://craftpeak-cooler-images.imgix.net/3-sheeps-brewing/BINGO-16x9-1.png?auto=compress%2Cformat&ixlib=php-3.3.1&s=46e5f57ed87f6e98921189f3f51a2cc7
END:VEVENT
BEGIN:VEVENT
DTSTART;TZID=America/Chicago:20300807T190000
DTEND;TZID=America/Chicago:20300807T210000
DTSTAMP:20260419T085714
CREATED:20240505T134928Z
LAST-MODIFIED:20260309T154238Z
UID:10003853-1912359600-1912366800@3sheepsbrewing.com
SUMMARY:Bingo!
DESCRIPTION:Dust off your daubers\, Bingo is back at 3 Sheeps! \nEach Wednesday\, we’ll be playing ten rounds of one of Wisconsin’s favorite past times. Prizes awarded throughout. Free to play.
URL:https://3sheepsbrewing.com/event-detail/bingo-2/2030-08-07/
LOCATION:Taproom\, 1837 North Ave.\, Sheboygan\, WI\, 53083\, United States
CATEGORIES:Bingo
ATTACH;FMTTYPE=image/png:https://craftpeak-cooler-images.imgix.net/3-sheeps-brewing/BINGO-16x9-1.png?auto=compress%2Cformat&ixlib=php-3.3.1&s=46e5f57ed87f6e98921189f3f51a2cc7
END:VEVENT
BEGIN:VEVENT
DTSTART;TZID=America/Chicago:20260708T190000
DTEND;TZID=America/Chicago:20260708T210000
DTSTAMP:20260419T085714
CREATED:20240505T134928Z
LAST-MODIFIED:20260309T154238Z
UID:10000128-1783537200-1783544400@3sheepsbrewing.com
SUMMARY:Bingo!
DESCRIPTION:Dust off your daubers\, Bingo is back at 3 Sheeps! \nEach Wednesday\, we’ll be playing ten rounds of one of Wisconsin’s favorite past times. Prizes awarded throughout. Free to play.
URL:https://3sheepsbrewing.com/event-detail/bingo-2/2026-07-08/
LOCATION:Taproom\, 1837 North Ave.\, Sheboygan\, WI\, 53083\, United States
CATEGORIES:Bingo
ATTACH;FMTTYPE=image/png:https://craftpeak-cooler-images.imgix.net/3-sheeps-brewing/BINGO-16x9-1.png?auto=compress%2Cformat&ixlib=php-3.3.1&s=46e5f57ed87f6e98921189f3f51a2cc7
END:VEVENT
BEGIN:VEVENT
DTSTART;TZID=America/Chicago:20270217T190000
DTEND;TZID=America/Chicago:20270217T210000
DTSTAMP:20260419T085714
CREATED:20240505T134928Z
LAST-MODIFIED:20260309T154238Z
UID:10000160-1802890800-1802898000@3sheepsbrewing.com
SUMMARY:Bingo!
DESCRIPTION:Dust off your daubers\, Bingo is back at 3 Sheeps! \nEach Wednesday\, we’ll be playing ten rounds of one of Wisconsin’s favorite past times. Prizes awarded throughout. Free to play.
URL:https://3sheepsbrewing.com/event-detail/bingo-2/2027-02-17/
LOCATION:Taproom\, 1837 North Ave.\, Sheboygan\, WI\, 53083\, United States
CATEGORIES:Bingo
ATTACH;FMTTYPE=image/png:https://craftpeak-cooler-images.imgix.net/3-sheeps-brewing/BINGO-16x9-1.png?auto=compress%2Cformat&ixlib=php-3.3.1&s=46e5f57ed87f6e98921189f3f51a2cc7
END:VEVENT
BEGIN:VEVENT
DTSTART;TZID=America/Chicago:20270929T190000
DTEND;TZID=America/Chicago:20270929T210000
DTSTAMP:20260419T085714
CREATED:20240505T134928Z
LAST-MODIFIED:20260309T154238Z
UID:10000192-1822244400-1822251600@3sheepsbrewing.com
SUMMARY:Bingo!
DESCRIPTION:Dust off your daubers\, Bingo is back at 3 Sheeps! \nEach Wednesday\, we’ll be playing ten rounds of one of Wisconsin’s favorite past times. Prizes awarded throughout. Free to play.
URL:https://3sheepsbrewing.com/event-detail/bingo-2/2027-09-29/
LOCATION:Taproom\, 1837 North Ave.\, Sheboygan\, WI\, 53083\, United States
CATEGORIES:Bingo
ATTACH;FMTTYPE=image/png:https://craftpeak-cooler-images.imgix.net/3-sheeps-brewing/BINGO-16x9-1.png?auto=compress%2Cformat&ixlib=php-3.3.1&s=46e5f57ed87f6e98921189f3f51a2cc7
END:VEVENT
BEGIN:VEVENT
DTSTART;TZID=America/Chicago:20280510T190000
DTEND;TZID=America/Chicago:20280510T210000
DTSTAMP:20260419T085714
CREATED:20240505T134928Z
LAST-MODIFIED:20260309T154238Z
UID:10000224-1841598000-1841605200@3sheepsbrewing.com
SUMMARY:Bingo!
DESCRIPTION:Dust off your daubers\, Bingo is back at 3 Sheeps! \nEach Wednesday\, we’ll be playing ten rounds of one of Wisconsin’s favorite past times. Prizes awarded throughout. Free to play.
URL:https://3sheepsbrewing.com/event-detail/bingo-2/2028-05-10/
LOCATION:Taproom\, 1837 North Ave.\, Sheboygan\, WI\, 53083\, United States
CATEGORIES:Bingo
ATTACH;FMTTYPE=image/png:https://craftpeak-cooler-images.imgix.net/3-sheeps-brewing/BINGO-16x9-1.png?auto=compress%2Cformat&ixlib=php-3.3.1&s=46e5f57ed87f6e98921189f3f51a2cc7
END:VEVENT
BEGIN:VEVENT
DTSTART;TZID=America/Chicago:20281220T190000
DTEND;TZID=America/Chicago:20281220T210000
DTSTAMP:20260419T085714
CREATED:20240505T134928Z
LAST-MODIFIED:20260309T154238Z
UID:10000256-1860951600-1860958800@3sheepsbrewing.com
SUMMARY:Bingo!
DESCRIPTION:Dust off your daubers\, Bingo is back at 3 Sheeps! \nEach Wednesday\, we’ll be playing ten rounds of one of Wisconsin’s favorite past times. Prizes awarded throughout. Free to play.
URL:https://3sheepsbrewing.com/event-detail/bingo-2/2028-12-20/
LOCATION:Taproom\, 1837 North Ave.\, Sheboygan\, WI\, 53083\, United States
CATEGORIES:Bingo
ATTACH;FMTTYPE=image/png:https://craftpeak-cooler-images.imgix.net/3-sheeps-brewing/BINGO-16x9-1.png?auto=compress%2Cformat&ixlib=php-3.3.1&s=46e5f57ed87f6e98921189f3f51a2cc7
END:VEVENT
BEGIN:VEVENT
DTSTART;TZID=America/Chicago:20290801T190000
DTEND;TZID=America/Chicago:20290801T210000
DTSTAMP:20260419T085714
CREATED:20240505T134928Z
LAST-MODIFIED:20260309T154238Z
UID:10000463-1880305200-1880312400@3sheepsbrewing.com
SUMMARY:Bingo!
DESCRIPTION:Dust off your daubers\, Bingo is back at 3 Sheeps! \nEach Wednesday\, we’ll be playing ten rounds of one of Wisconsin’s favorite past times. Prizes awarded throughout. Free to play.
URL:https://3sheepsbrewing.com/event-detail/bingo-2/2029-08-01/
LOCATION:Taproom\, 1837 North Ave.\, Sheboygan\, WI\, 53083\, United States
CATEGORIES:Bingo
ATTACH;FMTTYPE=image/png:https://craftpeak-cooler-images.imgix.net/3-sheeps-brewing/BINGO-16x9-1.png?auto=compress%2Cformat&ixlib=php-3.3.1&s=46e5f57ed87f6e98921189f3f51a2cc7
END:VEVENT
BEGIN:VEVENT
DTSTART;TZID=America/Chicago:20300313T190000
DTEND;TZID=America/Chicago:20300313T210000
DTSTAMP:20260419T085714
CREATED:20240505T134928Z
LAST-MODIFIED:20260309T154238Z
UID:10003832-1899658800-1899666000@3sheepsbrewing.com
SUMMARY:Bingo!
DESCRIPTION:Dust off your daubers\, Bingo is back at 3 Sheeps! \nEach Wednesday\, we’ll be playing ten rounds of one of Wisconsin’s favorite past times. Prizes awarded throughout. Free to play.
URL:https://3sheepsbrewing.com/event-detail/bingo-2/2030-03-13/
LOCATION:Taproom\, 1837 North Ave.\, Sheboygan\, WI\, 53083\, United States
CATEGORIES:Bingo
ATTACH;FMTTYPE=image/png:https://craftpeak-cooler-images.imgix.net/3-sheeps-brewing/BINGO-16x9-1.png?auto=compress%2Cformat&ixlib=php-3.3.1&s=46e5f57ed87f6e98921189f3f51a2cc7
END:VEVENT
BEGIN:VEVENT
DTSTART;TZID=America/Chicago:20301023T190000
DTEND;TZID=America/Chicago:20301023T210000
DTSTAMP:20260419T085714
CREATED:20240505T134928Z
LAST-MODIFIED:20260309T154238Z
UID:10003864-1919012400-1919019600@3sheepsbrewing.com
SUMMARY:Bingo!
DESCRIPTION:Dust off your daubers\, Bingo is back at 3 Sheeps! \nEach Wednesday\, we’ll be playing ten rounds of one of Wisconsin’s favorite past times. Prizes awarded throughout. Free to play.
URL:https://3sheepsbrewing.com/event-detail/bingo-2/2030-10-23/
LOCATION:Taproom\, 1837 North Ave.\, Sheboygan\, WI\, 53083\, United States
CATEGORIES:Bingo
ATTACH;FMTTYPE=image/png:https://craftpeak-cooler-images.imgix.net/3-sheeps-brewing/BINGO-16x9-1.png?auto=compress%2Cformat&ixlib=php-3.3.1&s=46e5f57ed87f6e98921189f3f51a2cc7
END:VEVENT
BEGIN:VEVENT
DTSTART;TZID=America/Chicago:20260923T190000
DTEND;TZID=America/Chicago:20260923T210000
DTSTAMP:20260419T085714
CREATED:20240505T134928Z
LAST-MODIFIED:20260309T154238Z
UID:10000139-1790190000-1790197200@3sheepsbrewing.com
SUMMARY:Bingo!
DESCRIPTION:Dust off your daubers\, Bingo is back at 3 Sheeps! \nEach Wednesday\, we’ll be playing ten rounds of one of Wisconsin’s favorite past times. Prizes awarded throughout. Free to play.
URL:https://3sheepsbrewing.com/event-detail/bingo-2/2026-09-23/
LOCATION:Taproom\, 1837 North Ave.\, Sheboygan\, WI\, 53083\, United States
CATEGORIES:Bingo
ATTACH;FMTTYPE=image/png:https://craftpeak-cooler-images.imgix.net/3-sheeps-brewing/BINGO-16x9-1.png?auto=compress%2Cformat&ixlib=php-3.3.1&s=46e5f57ed87f6e98921189f3f51a2cc7
END:VEVENT
BEGIN:VEVENT
DTSTART;TZID=America/Chicago:20270505T190000
DTEND;TZID=America/Chicago:20270505T210000
DTSTAMP:20260419T085714
CREATED:20240505T134928Z
LAST-MODIFIED:20260309T154238Z
UID:10000171-1809543600-1809550800@3sheepsbrewing.com
SUMMARY:Bingo!
DESCRIPTION:Dust off your daubers\, Bingo is back at 3 Sheeps! \nEach Wednesday\, we’ll be playing ten rounds of one of Wisconsin’s favorite past times. Prizes awarded throughout. Free to play.
URL:https://3sheepsbrewing.com/event-detail/bingo-2/2027-05-05/
LOCATION:Taproom\, 1837 North Ave.\, Sheboygan\, WI\, 53083\, United States
CATEGORIES:Bingo
ATTACH;FMTTYPE=image/png:https://craftpeak-cooler-images.imgix.net/3-sheeps-brewing/BINGO-16x9-1.png?auto=compress%2Cformat&ixlib=php-3.3.1&s=46e5f57ed87f6e98921189f3f51a2cc7
END:VEVENT
BEGIN:VEVENT
DTSTART;TZID=America/Chicago:20271215T190000
DTEND;TZID=America/Chicago:20271215T210000
DTSTAMP:20260419T085714
CREATED:20240505T134928Z
LAST-MODIFIED:20260309T154238Z
UID:10000203-1828897200-1828904400@3sheepsbrewing.com
SUMMARY:Bingo!
DESCRIPTION:Dust off your daubers\, Bingo is back at 3 Sheeps! \nEach Wednesday\, we’ll be playing ten rounds of one of Wisconsin’s favorite past times. Prizes awarded throughout. Free to play.
URL:https://3sheepsbrewing.com/event-detail/bingo-2/2027-12-15/
LOCATION:Taproom\, 1837 North Ave.\, Sheboygan\, WI\, 53083\, United States
CATEGORIES:Bingo
ATTACH;FMTTYPE=image/png:https://craftpeak-cooler-images.imgix.net/3-sheeps-brewing/BINGO-16x9-1.png?auto=compress%2Cformat&ixlib=php-3.3.1&s=46e5f57ed87f6e98921189f3f51a2cc7
END:VEVENT
END:VCALENDAR